BEGIN:VCALENDAR
VERSION:2.0
PRODID:-//Maine Life Church - ECPv6.15.20//NONSGML v1.0//EN
CALSCALE:GREGORIAN
METHOD:PUBLISH
X-ORIGINAL-URL:https://mainelifechurch.com
X-WR-CALDESC:Events for Maine Life Church
REFRESH-INTERVAL;VALUE=DURATION:PT1H
X-Robots-Tag:noindex
X-PUBLISHED-TTL:PT1H
BEGIN:VTIMEZONE
TZID:UTC
BEGIN:STANDARD
TZOFFSETFROM:+0000
TZOFFSETTO:+0000
TZNAME:UTC
DTSTART:20250101T000000
END:STANDARD
END:VTIMEZONE
BEGIN:VEVENT
DTSTART;TZID=UTC:20260426T100000
DTEND;TZID=UTC:20260426T130000
DTSTAMP:20260423T044832
CREATED:20260422T212203Z
LAST-MODIFIED:20260422T212203Z
UID:5259-1777197600-1777208400@mainelifechurch.com
SUMMARY:Sunday School
DESCRIPTION:
URL:https://mainelifechurch.com/event/sunday-school/
LOCATION:Life Church\, 344 Skowhegan Rd\, Norridgewock\, ME\, 04957\, United States
CATEGORIES:GLOW Kidz,Men's Group,Women's Group
ATTACH;FMTTYPE=image/webp:https://mainelifechurch.com/wp-content/uploads/2026/04/Black_Red_and_Yellow_Modern_Church_Service_Poster.webp
END:VEVENT
END:VCALENDAR