BEGIN:VCALENDAR
VERSION:2.0
PRODID:-//Maine Life Church - ECPv6.15.20//NONSGML v1.0//EN
CALSCALE:GREGORIAN
METHOD:PUBLISH
X-WR-CALNAME:Maine Life Church
X-ORIGINAL-URL:https://mainelifechurch.com
X-WR-CALDESC:Events for Maine Life Church
REFRESH-INTERVAL;VALUE=DURATION:PT1H
X-Robots-Tag:noindex
X-PUBLISHED-TTL:PT1H
BEGIN:VTIMEZONE
TZID:UTC
BEGIN:STANDARD
TZOFFSETFROM:+0000
TZOFFSETTO:+0000
TZNAME:UTC
DTSTART:20250101T000000
END:STANDARD
END:VTIMEZONE
BEGIN:VEVENT
DTSTART;TZID=UTC:20260516T080000
DTEND;TZID=UTC:20260516T140000
DTSTAMP:20260423T032300
CREATED:20260422T183945Z
LAST-MODIFIED:20260422T183945Z
UID:5246-1778918400-1778940000@mainelifechurch.com
SUMMARY:Yard Sale
DESCRIPTION:
URL:https://mainelifechurch.com/event/yard-sale/
LOCATION:ME
CATEGORIES:GLOW Kidz,Men's Group,Women's Group
ATTACH;FMTTYPE=image/webp:https://mainelifechurch.com/wp-content/uploads/2026/04/Yard-Sale.webp
END:VEVENT
END:VCALENDAR